BEGIN:VCALENDAR
VERSION:2.0
PRODID:Events Booking
BEGIN:VEVENT
UID:69ea436b5ef7e
SUMMARY:Howl-A-Palooza
DESCRIPTION:Creepy Crafts
 Scary Snacks
 Costume Contest
LOCATION:251 Main Street\, Mathews\, 23109 Virginia\, United States
DTSTART:20251025T180000Z
DTEND:20251025T203000Z
DTSTAMP:20251006T215955Z
ORGANIZER;CN=Mathews Memorial Library:MAILTO:info@mathewslibrary.org
GEO:37.433489;-76.320543
X-APPLE-STRUCTURED-LOCATION;VALUE=URI;X-ADDRESS=251 Main Street\, Mathews\,
  23109 Virginia\, United States;X-APPLE-RADIUS=72;X-TITLE=Mathews Memorial
  Library:37.433489;-76.320543
END:VEVENT
END:VCALENDAR